BEGIN:VCALENDAR
VERSION:2.0
PRODID:-//OsakaLive//OsakaLive//EN
CALSCALE:GREGORIAN
METHOD:PUBLISH
BEGIN:VEVENT
UID:42e47cef-775c-409c-ba95-24985d78332e@osaka-live.app
DTSTAMP:20260424T135245Z
DTSTART;TZID=Asia/Tokyo:20260713T2000:0000
DTEND;TZID=Asia/Tokyo:20260713T220000
SUMMARY:Ferocious X/ Disturd
LOCATION:Namba BEARS\, Osaka\, Japan
DESCRIPTION:Adv ¥2,000 / Door ¥2,000\nDoors 19:30:00\nStart 20:00:00
END:VEVENT
END:VCALENDAR
