BEGIN:VCALENDAR
VERSION:2.0
PRODID:-//OsakaLive//OsakaLive//EN
CALSCALE:GREGORIAN
METHOD:PUBLISH
BEGIN:VEVENT
UID:415b380f-0514-44e4-8fa9-1127bf46e911@osaka-live.app
DTSTAMP:20260424T123716Z
DTSTART;TZID=Asia/Tokyo:20260430T1800:0000
DTEND;TZID=Asia/Tokyo:20260430T200000
SUMMARY:Aim for One ✖︎ ALL JACK 2MAN LIVE AIM JACK
LOCATION:BIG CAT\, Americamura\, Nishi Ward\, Osaka
DESCRIPTION:Doors 17:15:00\nStart 18:00:00\nTickets: http://l-tike.com/
URL:http://l-tike.com/
END:VEVENT
END:VCALENDAR
