BEGIN:VCALENDAR
VERSION:2.0
PRODID:-//OsakaLive//OsakaLive//EN
CALSCALE:GREGORIAN
METHOD:PUBLISH
BEGIN:VEVENT
UID:400051d0-7989-4fa8-82ad-53e5f881489c@osaka-live.app
DTSTAMP:20260424T123747Z
DTSTART;TZID=Asia/Tokyo:20260414T1800:0000
DTEND;TZID=Asia/Tokyo:20260414T200000
SUMMARY:PIEN presents VOl.90 -RHYTHMIC LINK
LOCATION:Americamura DROP\, Osaka\, Japan
DESCRIPTION:Doors 17:30:00\nStart 18:00:00
END:VEVENT
END:VCALENDAR
