BEGIN:VCALENDAR
VERSION:2.0
PRODID:-//OsakaLive//OsakaLive//EN
CALSCALE:GREGORIAN
METHOD:PUBLISH
BEGIN:VEVENT
UID:3fa6aa6e-6fb8-40b5-bd24-80241dff1add@osaka-live.app
DTSTAMP:20260424T154315Z
DTSTART;TZID=Asia/Tokyo:20260411T1225:0000
DTEND;TZID=Asia/Tokyo:20260411T142500
SUMMARY:1日中 Kawaii Night
LOCATION:Americamura DROP\, Osaka\, Japan
DESCRIPTION:Adv ¥3,000 / Door ¥2,000\nDoors 12:10:00\nStart 12:25:00
END:VEVENT
END:VCALENDAR
