BEGIN:VCALENDAR
VERSION:2.0
PRODID:-//OsakaLive//OsakaLive//EN
CALSCALE:GREGORIAN
METHOD:PUBLISH
BEGIN:VEVENT
UID:3f8e46a8-1cb7-4d22-b65e-1e93620dfc70@osaka-live.app
DTSTAMP:20260424T135703Z
DTSTART;TZID=Asia/Tokyo:20260525T1900:0000
DTEND;TZID=Asia/Tokyo:20260525T210000
SUMMARY:ゆあさみちる
LOCATION:Yogibo META VALLEY\, Osaka\, Japan
DESCRIPTION:Adv ¥5,500 / Door ¥5,500\nDoors 18:00:00\nStart 19:00:00
END:VEVENT
END:VCALENDAR
