BEGIN:VCALENDAR
VERSION:2.0
PRODID:-//OsakaLive//OsakaLive//EN
CALSCALE:GREGORIAN
METHOD:PUBLISH
BEGIN:VEVENT
UID:3d88fea4-e05b-49fb-9084-4e6ab11edbd6@osaka-live.app
DTSTAMP:20260424T123217Z
DTSTART;TZID=Asia/Tokyo:20260425T1815:0000
DTEND;TZID=Asia/Tokyo:20260425T201500
SUMMARY:2部】PENTA+LOGUE GO WEST ～そやな編
LOCATION:BIG CAT\, Americamura\, Nishi Ward\, Osaka
DESCRIPTION:Doors 17:45:00\nStart 18:15:00\nTickets: http://l-tike.com/
URL:http://l-tike.com/
END:VEVENT
END:VCALENDAR
