BEGIN:VCALENDAR
VERSION:2.0
PRODID:-//OsakaLive//OsakaLive//EN
CALSCALE:GREGORIAN
METHOD:PUBLISH
BEGIN:VEVENT
UID:3d14a1c3-24b3-4bca-b29e-36d20b850aba@osaka-live.app
DTSTAMP:20260424T123343Z
DTSTART;VALUE=DATE:20260404
DTEND;VALUE=DATE:20260405
SUMMARY:NIGHT
LOCATION:Hokage\, Chuo Ward\, Nishishinsaibashi 2-9-36\, Kasai Bldg B1F
END:VEVENT
END:VCALENDAR
