BEGIN:VCALENDAR
VERSION:2.0
PRODID:-//OsakaLive//OsakaLive//EN
CALSCALE:GREGORIAN
METHOD:PUBLISH
BEGIN:VEVENT
UID:3c993fa3-912c-4d01-a172-3b4586f5ce87@osaka-live.app
DTSTAMP:20260424T134627Z
DTSTART;TZID=Asia/Tokyo:20260528T1930:0000
DTEND;TZID=Asia/Tokyo:20260528T213000
SUMMARY:三上寛with山本精一
LOCATION:Namba BEARS\, Osaka\, Japan
DESCRIPTION:Adv ¥3,500 / Door ¥4,000\nDoors 19:00:00\nStart 19:30:00
END:VEVENT
END:VCALENDAR
