BEGIN:VCALENDAR
VERSION:2.0
PRODID:-//OsakaLive//OsakaLive//EN
CALSCALE:GREGORIAN
METHOD:PUBLISH
BEGIN:VEVENT
UID:3bc9eca9-552f-471d-bcf7-9d871f4e0642@osaka-live.app
DTSTAMP:20260425T002306Z
DTSTART;VALUE=DATE:20270421
DTEND;VALUE=DATE:20270422
SUMMARY:■タワー・オブ・パワー／Tower of Power
LOCATION:Grand Cube Osaka\, Osaka\, Japan
END:VEVENT
END:VCALENDAR
