BEGIN:VCALENDAR
VERSION:2.0
PRODID:-//OsakaLive//OsakaLive//EN
CALSCALE:GREGORIAN
METHOD:PUBLISH
BEGIN:VEVENT
UID:3b32dddd-c9bd-48b2-888e-278b1948e38f@osaka-live.app
DTSTAMP:20260424T123439Z
DTSTART;TZID=Asia/Tokyo:20260404T1000:0000
DTEND;TZID=Asia/Tokyo:20260404T120000
SUMMARY:Z.E.R.O System
LOCATION:Americamura DROP\, Osaka\, Japan
DESCRIPTION:Doors 09:45:00\nStart 10:00:00
END:VEVENT
END:VCALENDAR
