BEGIN:VCALENDAR
VERSION:2.0
PRODID:-//OsakaLive//OsakaLive//EN
CALSCALE:GREGORIAN
METHOD:PUBLISH
BEGIN:VEVENT
UID:3a14ca9c-f740-4cdc-a975-dcd09bdaf5b5@osaka-live.app
DTSTAMP:20260424T123554Z
DTSTART;VALUE=DATE:20260415
DTEND;VALUE=DATE:20260416
SUMMARY:Zeela & bar T.A.B presents "UMEDA BLOCK PARTY"
LOCATION:Umeda Zeela\, Osaka\, Japan
DESCRIPTION:Adv ¥3,000 / Door ¥3,000
END:VEVENT
END:VCALENDAR
