BEGIN:VCALENDAR
VERSION:2.0
PRODID:-//OsakaLive//OsakaLive//EN
CALSCALE:GREGORIAN
METHOD:PUBLISH
BEGIN:VEVENT
UID:39be4826-9ca1-42ed-a226-9d154aba4288@osaka-live.app
DTSTAMP:20260424T133815Z
DTSTART;TZID=Asia/Tokyo:20260602T2000:0000
DTEND;TZID=Asia/Tokyo:20260602T220000
SUMMARY:BLONDnewHALF 20th Anniversary
LOCATION:Namba BEARS\, Osaka\, Japan
DESCRIPTION:Adv ¥2,000 / Door ¥2,000\nDoors 19:30:00\nStart 20:00:00
END:VEVENT
END:VCALENDAR
