BEGIN:VCALENDAR
VERSION:2.0
PRODID:-//OsakaLive//OsakaLive//EN
CALSCALE:GREGORIAN
METHOD:PUBLISH
BEGIN:VEVENT
UID:37f166f3-834c-48cc-a40a-7542c72903d2@osaka-live.app
DTSTAMP:20260424T123404Z
DTSTART;VALUE=DATE:20261202
DTEND;VALUE=DATE:20261203
SUMMARY:2011年以前
LOCATION:BIG CAT\, Americamura\, Nishi Ward\, Osaka
DESCRIPTION:Tickets: http://l-tike.com/
URL:http://l-tike.com/
END:VEVENT
END:VCALENDAR
