BEGIN:VCALENDAR
VERSION:2.0
PRODID:-//OsakaLive//OsakaLive//EN
CALSCALE:GREGORIAN
METHOD:PUBLISH
BEGIN:VEVENT
UID:37649f5b-dfa1-4c7f-8129-4c745445775b@osaka-live.app
DTSTAMP:20260424T140143Z
DTSTART;VALUE=DATE:20260921
DTEND;VALUE=DATE:20260922
SUMMARY:1st Album『angel wing』応募抽選特典
LOCATION:Yogibo META VALLEY\, Osaka\, Japan
DESCRIPTION:Adv ¥20,000 / Door ¥8,500
END:VEVENT
END:VCALENDAR
