BEGIN:VCALENDAR
VERSION:2.0
PRODID:-//OsakaLive//OsakaLive//EN
CALSCALE:GREGORIAN
METHOD:PUBLISH
BEGIN:VEVENT
UID:37352698-f8d5-4bd3-abc5-faee978fce43@osaka-live.app
DTSTAMP:20260424T134406Z
DTSTART;TZID=Asia/Tokyo:20260527T1830:0000
DTEND;TZID=Asia/Tokyo:20260527T203000
SUMMARY:慈愛/THE I』25
LOCATION:Namba BEARS\, Osaka\, Japan
DESCRIPTION:Adv ¥1,500 / Door ¥1,500\nStart 18:30:00
END:VEVENT
END:VCALENDAR
