BEGIN:VCALENDAR
VERSION:2.0
PRODID:-//OsakaLive//OsakaLive//EN
CALSCALE:GREGORIAN
METHOD:PUBLISH
BEGIN:VEVENT
UID:352180a4-152d-4fb5-9d64-e222370828b1@osaka-live.app
DTSTAMP:20260424T135412Z
DTSTART;TZID=Asia/Tokyo:20260709T1900:0000
DTEND;TZID=Asia/Tokyo:20260709T210000
SUMMARY:"MACH PELICAN (AUS) JAPAN TOUR 2026"
LOCATION:Namba Mele\, Namba\, Chuo Ward\, Osaka
DESCRIPTION:Adv ¥4,500 / Door ¥5,500\nDoors 18:30:00\nStart 19:00:00\nTicke
 ts: https://eplus.jp/sf/detail/4473500001-P0030001
URL:https://eplus.jp/sf/detail/4473500001-P0030001
END:VEVENT
END:VCALENDAR
