BEGIN:VCALENDAR
VERSION:2.0
PRODID:-//OsakaLive//OsakaLive//EN
CALSCALE:GREGORIAN
METHOD:PUBLISH
BEGIN:VEVENT
UID:34eebeeb-e00d-4457-a79e-60a2f5b343ed@osaka-live.app
DTSTAMP:20260424T123216Z
DTSTART;TZID=Asia/Tokyo:20260413T1830:0000
DTEND;TZID=Asia/Tokyo:20260413T203000
SUMMARY:SynchMob &PIEN presents VOLTAGE LEGION
LOCATION:Americamura DROP\, Osaka\, Japan
DESCRIPTION:Doors 18:00:00\nStart 18:30:00
END:VEVENT
END:VCALENDAR
