BEGIN:VCALENDAR
VERSION:2.0
PRODID:-//OsakaLive//OsakaLive//EN
CALSCALE:GREGORIAN
METHOD:PUBLISH
BEGIN:VEVENT
UID:33ed18f1-70f5-43a7-874a-4c66d89b85ad@osaka-live.app
DTSTAMP:20260424T154815Z
DTSTART;TZID=Asia/Tokyo:20260616T1730:0000
DTEND;TZID=Asia/Tokyo:20260616T193000
SUMMARY:性傷年倶楽部 倶楽部会員募集ツアー
LOCATION:Americamura DROP\, Osaka\, Japan
DESCRIPTION:Doors 17:00:00\nStart 17:30:00
END:VEVENT
END:VCALENDAR
