BEGIN:VCALENDAR
VERSION:2.0
PRODID:-//OsakaLive//OsakaLive//EN
CALSCALE:GREGORIAN
METHOD:PUBLISH
BEGIN:VEVENT
UID:307dd221-ce66-4179-abdc-c62482904ce1@osaka-live.app
DTSTAMP:20260425T003549Z
DTSTART;VALUE=DATE:20270606
DTEND;VALUE=DATE:20270607
SUMMARY:■ブッチャー・ベイビーズ／Butcher Babies
LOCATION:Osaka Ruido\, Namba\, Chuo Ward\, Osaka
END:VEVENT
END:VCALENDAR
