BEGIN:VCALENDAR
VERSION:2.0
PRODID:-//OsakaLive//OsakaLive//EN
CALSCALE:GREGORIAN
METHOD:PUBLISH
BEGIN:VEVENT
UID:301b8dc1-989a-4083-9a22-ab86aa217682@osaka-live.app
DTSTAMP:20260424T123736Z
DTSTART;VALUE=DATE:20260413
DTEND;VALUE=DATE:20260414
SUMMARY:NIGHT
LOCATION:Hokage\, Chuo Ward\, Nishishinsaibashi 2-9-36\, Kasai Bldg B1F
END:VEVENT
END:VCALENDAR
