BEGIN:VCALENDAR
VERSION:2.0
PRODID:-//OsakaLive//OsakaLive//EN
CALSCALE:GREGORIAN
METHOD:PUBLISH
BEGIN:VEVENT
UID:2e7c0a06-95dc-4e55-bf56-a78cb797f512@osaka-live.app
DTSTAMP:20260424T123225Z
DTSTART;VALUE=DATE:20260419
DTEND;VALUE=DATE:20260420
SUMMARY:NIGHT
LOCATION:Hokage\, Chuo Ward\, Nishishinsaibashi 2-9-36\, Kasai Bldg B1F
END:VEVENT
END:VCALENDAR
