BEGIN:VCALENDAR
VERSION:2.0
PRODID:-//OsakaLive//OsakaLive//EN
CALSCALE:GREGORIAN
METHOD:PUBLISH
BEGIN:VEVENT
UID:2e121f91-7f87-417f-80dd-ec6c3e5b2f8b@osaka-live.app
DTSTAMP:20260424T135657Z
DTSTART;TZID=Asia/Tokyo:20260815T1900:0000
DTEND;TZID=Asia/Tokyo:20260815T210000
SUMMARY:"GYOGUN REND'S ONE MAN SHOW"
LOCATION:Namba Mele\, Namba\, Chuo Ward\, Osaka
DESCRIPTION:Adv ¥3,400 / Door ¥3,900\nDoors 18:30:00\nStart 19:00:00\nTicke
 ts: https://eplus.jp/sf/detail/4473500001-P0030001
URL:https://eplus.jp/sf/detail/4473500001-P0030001
END:VEVENT
END:VCALENDAR
