BEGIN:VCALENDAR
VERSION:2.0
PRODID:-//OsakaLive//OsakaLive//EN
CALSCALE:GREGORIAN
METHOD:PUBLISH
BEGIN:VEVENT
UID:2bc36c89-355a-4209-90b7-8031e1447869@osaka-live.app
DTSTAMP:20260424T123045Z
DTSTART;TZID=Asia/Tokyo:20260510T1730:0000
DTEND;TZID=Asia/Tokyo:20260510T193000
SUMMARY:ビタースウィートベイビーツアー2026
LOCATION:Yogibo META VALLEY\, Osaka\, Japan
DESCRIPTION:Adv ¥4,400 / Door ¥4,000\nDoors 17:00:00\nStart 17:30:00
END:VEVENT
END:VCALENDAR
