BEGIN:VCALENDAR
VERSION:2.0
PRODID:-//OsakaLive//OsakaLive//EN
CALSCALE:GREGORIAN
METHOD:PUBLISH
BEGIN:VEVENT
UID:2bbe3d85-eecf-413e-b420-d50d01785e83@osaka-live.app
DTSTAMP:20260424T154136Z
DTSTART;VALUE=DATE:20260410
DTEND;VALUE=DATE:20260411
SUMMARY:MEET ME SATURDAY pre. 「kitana kore2026
LOCATION:Umeda Zeela\, Osaka\, Japan
DESCRIPTION:Adv ¥3,500 / Door ¥4,000
END:VEVENT
END:VCALENDAR
