BEGIN:VCALENDAR
VERSION:2.0
PRODID:-//OsakaLive//OsakaLive//EN
CALSCALE:GREGORIAN
METHOD:PUBLISH
BEGIN:VEVENT
UID:2b031daa-4e98-40d0-a488-b6ced8c38cf3@osaka-live.app
DTSTAMP:20260424T183115Z
DTSTART;VALUE=DATE:20260504
DTEND;VALUE=DATE:20260505
SUMMARY:GOODLIFE feat. VENDEX
LOCATION:Club Joule\, Shinsaibashi\, Chuo Ward\, Osaka
END:VEVENT
END:VCALENDAR
