BEGIN:VCALENDAR
VERSION:2.0
PRODID:-//OsakaLive//OsakaLive//EN
CALSCALE:GREGORIAN
METHOD:PUBLISH
BEGIN:VEVENT
UID:2aa8cfc3-3769-46ca-a4df-38e0ac220bfb@osaka-live.app
DTSTAMP:20260424T123227Z
DTSTART;TZID=Asia/Tokyo:20260402T1850:0000
DTEND;TZID=Asia/Tokyo:20260402T205000
SUMMARY:"フリフリ★ドロップ" -FREE FREE DROP
LOCATION:Americamura DROP\, Osaka\, Japan
DESCRIPTION:Adv ¥1,500\nDoors 18:30:00\nStart 18:50:00
END:VEVENT
END:VCALENDAR
