BEGIN:VCALENDAR
VERSION:2.0
PRODID:-//OsakaLive//OsakaLive//EN
CALSCALE:GREGORIAN
METHOD:PUBLISH
BEGIN:VEVENT
UID:2a3f7a59-440a-4ba2-81db-e34035a0d7a9@osaka-live.app
DTSTAMP:20260424T135517Z
DTSTART;TZID=Asia/Tokyo:20260618T1900:0000
DTEND;TZID=Asia/Tokyo:20260618T210000
SUMMARY:COURTNEY BARNETT
LOCATION:Yogibo META VALLEY\, Osaka\, Japan
DESCRIPTION:Adv ¥5,000 / Door ¥9,000\nDoors 18:00:00\nStart 19:00:00
END:VEVENT
END:VCALENDAR
