BEGIN:VCALENDAR
VERSION:2.0
PRODID:-//OsakaLive//OsakaLive//EN
CALSCALE:GREGORIAN
METHOD:PUBLISH
BEGIN:VEVENT
UID:29937ef5-8dc1-4f43-8b50-1617b51b8e3e@osaka-live.app
DTSTAMP:20260424T154656Z
DTSTART;VALUE=DATE:20260403
DTEND;VALUE=DATE:20260404
SUMMARY:ネオ上等-vol8
LOCATION:Umeda Zeela\, Osaka\, Japan
DESCRIPTION:Adv ¥3,000 / Door ¥700
END:VEVENT
END:VCALENDAR
