BEGIN:VCALENDAR
VERSION:2.0
PRODID:-//OsakaLive//OsakaLive//EN
CALSCALE:GREGORIAN
METHOD:PUBLISH
BEGIN:VEVENT
UID:289c910e-818b-4d2d-b9cd-cda6eab03fa4@osaka-live.app
DTSTAMP:20260424T134206Z
DTSTART;TZID=Asia/Tokyo:20260525T1900:0000
DTEND;TZID=Asia/Tokyo:20260525T210000
SUMMARY:PIKA☆×梶原徹也×中村達也
LOCATION:Namba BEARS\, Osaka\, Japan
DESCRIPTION:Adv ¥3,500 / Door ¥4,000\nDoors 18:30:00\nStart 19:00:00
END:VEVENT
END:VCALENDAR
