BEGIN:VCALENDAR
VERSION:2.0
PRODID:-//OsakaLive//OsakaLive//EN
CALSCALE:GREGORIAN
METHOD:PUBLISH
BEGIN:VEVENT
UID:283e8b66-3606-481c-b90f-14c66acc5bf5@osaka-live.app
DTSTAMP:20260424T122633Z
DTSTART;TZID=Asia/Tokyo:20260503T1830:0000
DTEND;TZID=Asia/Tokyo:20260503T203000
SUMMARY:GENTLE GUM GG Party!! 大阪公演
LOCATION:Yogibo META VALLEY\, Osaka\, Japan
DESCRIPTION:Adv ¥3,500 / Door ¥6,000\nDoors 18:00:00\nStart 18:30:00
END:VEVENT
END:VCALENDAR
