BEGIN:VCALENDAR
VERSION:2.0
PRODID:-//OsakaLive//OsakaLive//EN
CALSCALE:GREGORIAN
METHOD:PUBLISH
BEGIN:VEVENT
UID:27a28868-9cdb-4936-8ac3-ba3260a78123@osaka-live.app
DTSTAMP:20260425T003759Z
DTSTART;VALUE=DATE:20270501
DTEND;VALUE=DATE:20270502
SUMMARY:■ヴィンセン・ガルシア／Vincen García
LOCATION:Osaka Ruido\, Namba\, Chuo Ward\, Osaka
END:VEVENT
END:VCALENDAR
