BEGIN:VCALENDAR
VERSION:2.0
PRODID:-//OsakaLive//OsakaLive//EN
CALSCALE:GREGORIAN
METHOD:PUBLISH
BEGIN:VEVENT
UID:25eeeb71-ea0c-4cc6-b66a-a142f3247c75@osaka-live.app
DTSTAMP:20260424T123438Z
DTSTART;TZID=Asia/Tokyo:20260417T1830:0000
DTEND;TZID=Asia/Tokyo:20260417T203000
SUMMARY:The Everlasting Days Vol.16
LOCATION:Americamura DROP\, Osaka\, Japan
DESCRIPTION:Doors 18:00:00\nStart 18:30:00
END:VEVENT
END:VCALENDAR
