BEGIN:VCALENDAR
VERSION:2.0
PRODID:-//OsakaLive//OsakaLive//EN
CALSCALE:GREGORIAN
METHOD:PUBLISH
BEGIN:VEVENT
UID:25c59b1e-558e-4eca-bdfa-5048e0a19149@osaka-live.app
DTSTAMP:20260424T121456Z
DTSTART;VALUE=DATE:20260425
DTEND;VALUE=DATE:20260426
SUMMARY:Fille mimi × MeluCharm 合同定期公演
LOCATION:Umeda Zeela\, Osaka\, Japan
DESCRIPTION:Adv ¥2,000 / Door ¥500
END:VEVENT
END:VCALENDAR
