BEGIN:VCALENDAR
VERSION:2.0
PRODID:-//OsakaLive//OsakaLive//EN
CALSCALE:GREGORIAN
METHOD:PUBLISH
BEGIN:VEVENT
UID:25a8a6d4-df95-4c2c-8e44-1b3f226f751f@osaka-live.app
DTSTAMP:20260424T121615Z
DTSTART;TZID=Asia/Tokyo:20260501T2000:0000
DTEND;TZID=Asia/Tokyo:20260501T220000
SUMMARY:"へいじつのよるをたのしむツーマン vol.2"
LOCATION:Namba Mele\, Namba\, Chuo Ward\, Osaka
DESCRIPTION:Adv ¥2,400 / Door ¥2,400\nDoors 19:30:00\nStart 20:00:00\nTicke
 ts: https://eplus.jp/sf/detail/4473500001-P0030001
URL:https://eplus.jp/sf/detail/4473500001-P0030001
END:VEVENT
END:VCALENDAR
