BEGIN:VCALENDAR
VERSION:2.0
PRODID:-//OsakaLive//OsakaLive//EN
CALSCALE:GREGORIAN
METHOD:PUBLISH
BEGIN:VEVENT
UID:258eeb0b-7e87-4437-89b2-f5777c6ebfd1@osaka-live.app
DTSTAMP:20260425T004004Z
DTSTART;VALUE=DATE:20271001
DTEND;VALUE=DATE:20271002
SUMMARY:■マーカス・ミラー／Marcus Miller
LOCATION:Grand Cube Osaka\, Osaka\, Japan
END:VEVENT
END:VCALENDAR
