BEGIN:VCALENDAR
VERSION:2.0
PRODID:-//OsakaLive//OsakaLive//EN
CALSCALE:GREGORIAN
METHOD:PUBLISH
BEGIN:VEVENT
UID:24e108bc-d9a7-47ee-997e-6ad08dcb2af2@osaka-live.app
DTSTAMP:20260424T123343Z
DTSTART;VALUE=DATE:20260412
DTEND;VALUE=DATE:20260413
SUMMARY:Kick ass GIG
LOCATION:Americamura DROP\, Osaka\, Japan
END:VEVENT
END:VCALENDAR
