BEGIN:VCALENDAR
VERSION:2.0
PRODID:-//OsakaLive//OsakaLive//EN
CALSCALE:GREGORIAN
METHOD:PUBLISH
BEGIN:VEVENT
UID:24b4f8d3-1ba0-417b-84ae-6f8a27e66e27@osaka-live.app
DTSTAMP:20260424T123436Z
DTSTART;VALUE=DATE:20260401
DTEND;VALUE=DATE:20260402
SUMMARY:NIGHT
LOCATION:Hokage\, Chuo Ward\, Nishishinsaibashi 2-9-36\, Kasai Bldg B1F
END:VEVENT
END:VCALENDAR
