BEGIN:VCALENDAR
VERSION:2.0
PRODID:-//OsakaLive//OsakaLive//EN
CALSCALE:GREGORIAN
METHOD:PUBLISH
BEGIN:VEVENT
UID:2453c9bd-b550-4ff2-8bbc-29374b1a961c@osaka-live.app
DTSTAMP:20260424T123901Z
DTSTART;TZID=Asia/Tokyo:20260427T1800:0000
DTEND;TZID=Asia/Tokyo:20260427T200000
SUMMARY:北所陽和×DROP presents.楽しさのその先へ
LOCATION:Americamura DROP\, Osaka\, Japan
DESCRIPTION:Doors 17:30:00\nStart 18:00:00
END:VEVENT
END:VCALENDAR
