BEGIN:VCALENDAR
VERSION:2.0
PRODID:-//OsakaLive//OsakaLive//EN
CALSCALE:GREGORIAN
METHOD:PUBLISH
BEGIN:VEVENT
UID:21bb1e57-d173-43c9-9e48-6f9e60c035b5@osaka-live.app
DTSTAMP:20260424T122906Z
DTSTART;VALUE=DATE:20260430
DTEND;VALUE=DATE:20260501
SUMMARY:シャンパライブ!!
LOCATION:Umeda Zeela\, Osaka\, Japan
DESCRIPTION:Adv ¥2,500 / Door ¥1,000
END:VEVENT
END:VCALENDAR
