BEGIN:VCALENDAR
VERSION:2.0
PRODID:-//OsakaLive//OsakaLive//EN
CALSCALE:GREGORIAN
METHOD:PUBLISH
BEGIN:VEVENT
UID:21439c8d-4ea9-4f3f-83c4-c947ab982aa1@osaka-live.app
DTSTAMP:20260424T123435Z
DTSTART;TZID=Asia/Tokyo:20260428T1930:0000
DTEND;TZID=Asia/Tokyo:20260428T213000
SUMMARY:にゃんこ大戦争〜テキーラを添えて〜
LOCATION:Americamura DROP\, Osaka\, Japan
DESCRIPTION:Doors 19:00:00\nStart 19:30:00
END:VEVENT
END:VCALENDAR
