BEGIN:VCALENDAR
VERSION:2.0
PRODID:-//OsakaLive//OsakaLive//EN
CALSCALE:GREGORIAN
METHOD:PUBLISH
BEGIN:VEVENT
UID:211ae59d-5517-45e8-93c8-a4e131782189@osaka-live.app
DTSTAMP:20260424T123342Z
DTSTART;VALUE=DATE:20270922
DTEND;VALUE=DATE:20270923
SUMMARY:■ベル・アンド・セバスチャン／Belle and Sebastian
LOCATION:BIG CAT\, Americamura\, Nishi Ward\, Osaka
END:VEVENT
END:VCALENDAR
