BEGIN:VCALENDAR
VERSION:2.0
PRODID:-//OsakaLive//OsakaLive//EN
CALSCALE:GREGORIAN
METHOD:PUBLISH
BEGIN:VEVENT
UID:208d636f-b098-44bd-bf11-9ba6c75c263b@osaka-live.app
DTSTAMP:20260424T123533Z
DTSTART;VALUE=DATE:20260423
DTEND;VALUE=DATE:20260424
SUMMARY:ブロンズダービー
LOCATION:BRONZE\, Osaka\, Japan
DESCRIPTION:Adv ¥600 / Door ¥600
END:VEVENT
END:VCALENDAR
