BEGIN:VCALENDAR
VERSION:2.0
PRODID:-//OsakaLive//OsakaLive//EN
CALSCALE:GREGORIAN
METHOD:PUBLISH
BEGIN:VEVENT
UID:1eea3094-c330-4a55-958b-a355f3d7b293@osaka-live.app
DTSTAMP:20260424T140021Z
DTSTART;TZID=Asia/Tokyo:20260717T1900:0000
DTEND;TZID=Asia/Tokyo:20260717T210000
SUMMARY:ʻLIVE ALL HAZE - OSAKA’
LOCATION:Yogibo META VALLEY\, Osaka\, Japan
DESCRIPTION:Adv ¥9,000 / Door ¥7,000\nDoors 18:15:00\nStart 19:00:00
END:VEVENT
END:VCALENDAR
