BEGIN:VCALENDAR
VERSION:2.0
PRODID:-//OsakaLive//OsakaLive//EN
CALSCALE:GREGORIAN
METHOD:PUBLISH
BEGIN:VEVENT
UID:1dce0081-c6d7-4c8c-8cb9-0f80b10ddf44@osaka-live.app
DTSTAMP:20260424T154456Z
DTSTART;VALUE=DATE:20260424
DTEND;VALUE=DATE:20260425
SUMMARY:OSAKA TECHNO MAFIA feat. Nastia
LOCATION:Club Joule\, Shinsaibashi\, Chuo Ward\, Osaka
END:VEVENT
END:VCALENDAR
