BEGIN:VCALENDAR
VERSION:2.0
PRODID:-//OsakaLive//OsakaLive//EN
CALSCALE:GREGORIAN
METHOD:PUBLISH
BEGIN:VEVENT
UID:1da30de5-960b-4695-b55e-02c32fe2f279@osaka-live.app
DTSTAMP:20260424T123532Z
DTSTART;VALUE=DATE:20260408
DTEND;VALUE=DATE:20260409
SUMMARY:超生誕祭』 -FUMIYA BIRTHDAY LIVE
LOCATION:Umeda Zeela\, Osaka\, Japan
DESCRIPTION:Adv ¥3,500 / Door ¥4,500
END:VEVENT
END:VCALENDAR
