BEGIN:VCALENDAR
VERSION:2.0
PRODID:-//OsakaLive//OsakaLive//EN
CALSCALE:GREGORIAN
METHOD:PUBLISH
BEGIN:VEVENT
UID:1b7073e2-0940-4be9-aad5-a730d5abd068@osaka-live.app
DTSTAMP:20260424T135122Z
DTSTART;TZID=Asia/Tokyo:20260612T1915:0000
DTEND;TZID=Asia/Tokyo:20260612T211500
SUMMARY:ほたるたちpresents「音と光
LOCATION:Namba BEARS\, Osaka\, Japan
DESCRIPTION:Adv ¥3,000 / Door ¥3,500\nDoors 18:45:00\nStart 19:15:00
END:VEVENT
END:VCALENDAR
