BEGIN:VCALENDAR
VERSION:2.0
PRODID:-//OsakaLive//OsakaLive//EN
CALSCALE:GREGORIAN
METHOD:PUBLISH
BEGIN:VEVENT
UID:197d26fb-b791-4cd4-a368-bb1084baa8b5@osaka-live.app
DTSTAMP:20260424T123357Z
DTSTART;TZID=Asia/Tokyo:20260416T1830:0000
DTEND;TZID=Asia/Tokyo:20260416T203000
SUMMARY:PIEN presents VOl.92 WONT 1st Album 『共鳴』Release Tour "RESONATION" -
  大阪編
LOCATION:Americamura DROP\, Osaka\, Japan
DESCRIPTION:Doors 18:00:00\nStart 18:30:00
END:VEVENT
END:VCALENDAR
