BEGIN:VCALENDAR
VERSION:2.0
PRODID:-//OsakaLive//OsakaLive//EN
CALSCALE:GREGORIAN
METHOD:PUBLISH
BEGIN:VEVENT
UID:1899e5a2-280b-4197-ad23-c31699ad9586@osaka-live.app
DTSTAMP:20260424T123850Z
DTSTART;VALUE=DATE:20260414
DTEND;VALUE=DATE:20260415
SUMMARY:Zeela presents NEW STANDARD
LOCATION:Umeda Zeela\, Osaka\, Japan
DESCRIPTION:Adv ¥2,500 / Door ¥3,000
END:VEVENT
END:VCALENDAR
