BEGIN:VCALENDAR
VERSION:2.0
PRODID:-//OsakaLive//OsakaLive//EN
CALSCALE:GREGORIAN
METHOD:PUBLISH
BEGIN:VEVENT
UID:17638bda-4f37-4037-847b-38f68ce41dbc@osaka-live.app
DTSTAMP:20260424T123709Z
DTSTART;VALUE=DATE:20261203
DTEND;VALUE=DATE:20261204
SUMMARY:2011年以前
LOCATION:BIG CAT\, Americamura\, Nishi Ward\, Osaka
DESCRIPTION:Tickets: http://l-tike.com/
URL:http://l-tike.com/
END:VEVENT
END:VCALENDAR
