BEGIN:VCALENDAR
VERSION:2.0
PRODID:-//OsakaLive//OsakaLive//EN
CALSCALE:GREGORIAN
METHOD:PUBLISH
BEGIN:VEVENT
UID:16e37880-d744-4ddd-b1d3-365402abd464@osaka-live.app
DTSTAMP:20260424T123055Z
DTSTART;TZID=Asia/Tokyo:20260510T1130:0000
DTEND;TZID=Asia/Tokyo:20260510T133000
SUMMARY:charge +1drink order +投げ銭
LOCATION:Namba BEARS\, Osaka\, Japan
DESCRIPTION:Adv ¥1,000 / Door ¥1,000\nDoors 11:00:00\nStart 11:30:00
END:VEVENT
END:VCALENDAR
